BEGIN:VCALENDAR
VERSION:2.0
PRODID:-//Schützenverein 1966 Schönaich e.V. - ECPv6.15.20//NONSGML v1.0//EN
CALSCALE:GREGORIAN
METHOD:PUBLISH
X-WR-CALNAME:Schützenverein 1966 Schönaich e.V.
X-ORIGINAL-URL:https://schuetzenverein-schoenaich.de
X-WR-CALDESC:Veranstaltungen für Schützenverein 1966 Schönaich e.V.
REFRESH-INTERVAL;VALUE=DURATION:PT1H
X-Robots-Tag:noindex
X-PUBLISHED-TTL:PT1H
BEGIN:VTIMEZONE
TZID:Europe/Berlin
BEGIN:DAYLIGHT
TZOFFSETFROM:+0100
TZOFFSETTO:+0200
TZNAME:CEST
DTSTART:20240331T010000
END:DAYLIGHT
BEGIN:STANDARD
TZOFFSETFROM:+0200
TZOFFSETTO:+0100
TZNAME:CET
DTSTART:20241027T010000
END:STANDARD
BEGIN:DAYLIGHT
TZOFFSETFROM:+0100
TZOFFSETTO:+0200
TZNAME:CEST
DTSTART:20250330T010000
END:DAYLIGHT
BEGIN:STANDARD
TZOFFSETFROM:+0200
TZOFFSETTO:+0100
TZNAME:CET
DTSTART:20251026T010000
END:STANDARD
BEGIN:DAYLIGHT
TZOFFSETFROM:+0100
TZOFFSETTO:+0200
TZNAME:CEST
DTSTART:20260329T010000
END:DAYLIGHT
BEGIN:STANDARD
TZOFFSETFROM:+0200
TZOFFSETTO:+0100
TZNAME:CET
DTSTART:20261025T010000
END:STANDARD
END:VTIMEZONE
BEGIN:VEVENT
DTSTART;TZID=Europe/Berlin:20250607T080000
DTEND;TZID=Europe/Berlin:20250607T170000
DTSTAMP:20260422T014202
CREATED:20250413T073348Z
LAST-MODIFIED:20250413T073348Z
UID:161-1749283200-1749315600@schuetzenverein-schoenaich.de
SUMMARY:Trap Schießen im Jägerloch 2025
DESCRIPTION:
URL:https://schuetzenverein-schoenaich.de/event/trap-schiessen-im-jaegerloch-2025/
LOCATION:Schießanlage „Jägerloch“\, Jägerloch 10\, Freudenstadt\, Baden-Württemberg\, 72250\, Germany
CATEGORIES:Ausflug/Feier
END:VEVENT
BEGIN:VEVENT
DTSTART;TZID=Europe/Berlin:20250621T100000
DTEND;TZID=Europe/Berlin:20250621T190000
DTSTAMP:20260422T014202
CREATED:20250412T101238Z
LAST-MODIFIED:20250616T155121Z
UID:84-1750500000-1750532400@schuetzenverein-schoenaich.de
SUMMARY:Ortsmeisterschaft 2025
DESCRIPTION:
URL:https://schuetzenverein-schoenaich.de/event/ortsmeisterschaft-2025/
LOCATION:Vereinsheim Schützenverein 1966 Schönaich e.V.\, Bandwiesen 2\, Schönaich\, Baden-Württemberg\, 71101\, Germany
CATEGORIES:Öffentliche Veranstaltung
END:VEVENT
BEGIN:VEVENT
DTSTART;TZID=Europe/Berlin:20250621T180000
DTEND;TZID=Europe/Berlin:20250621T230000
DTSTAMP:20260422T014202
CREATED:20250413T073450Z
LAST-MODIFIED:20250616T155148Z
UID:165-1750528800-1750546800@schuetzenverein-schoenaich.de
SUMMARY:Sonnenwendfeuer 2025
DESCRIPTION:
URL:https://schuetzenverein-schoenaich.de/event/sonnenwendfeuer-2025/
LOCATION:Vereinsheim Schützenverein 1966 Schönaich e.V.\, Bandwiesen 2\, Schönaich\, Baden-Württemberg\, 71101\, Germany
CATEGORIES:Öffentliche Veranstaltung
END:VEVENT
END:VCALENDAR