BEGIN:VCALENDAR
VERSION:2.0
PRODID:-//Schützenverein 1966 Schönaich e.V. - ECPv6.15.20//NONSGML v1.0//EN
CALSCALE:GREGORIAN
METHOD:PUBLISH
X-ORIGINAL-URL:https://schuetzenverein-schoenaich.de
X-WR-CALDESC:Veranstaltungen für Schützenverein 1966 Schönaich e.V.
REFRESH-INTERVAL;VALUE=DURATION:PT1H
X-Robots-Tag:noindex
X-PUBLISHED-TTL:PT1H
BEGIN:VTIMEZONE
TZID:Europe/Berlin
BEGIN:DAYLIGHT
TZOFFSETFROM:+0100
TZOFFSETTO:+0200
TZNAME:CEST
DTSTART:20250330T010000
END:DAYLIGHT
BEGIN:STANDARD
TZOFFSETFROM:+0200
TZOFFSETTO:+0100
TZNAME:CET
DTSTART:20251026T010000
END:STANDARD
BEGIN:DAYLIGHT
TZOFFSETFROM:+0100
TZOFFSETTO:+0200
TZNAME:CEST
DTSTART:20260329T010000
END:DAYLIGHT
BEGIN:STANDARD
TZOFFSETFROM:+0200
TZOFFSETTO:+0100
TZNAME:CET
DTSTART:20261025T010000
END:STANDARD
BEGIN:DAYLIGHT
TZOFFSETFROM:+0100
TZOFFSETTO:+0200
TZNAME:CEST
DTSTART:20270328T010000
END:DAYLIGHT
BEGIN:STANDARD
TZOFFSETFROM:+0200
TZOFFSETTO:+0100
TZNAME:CET
DTSTART:20271031T010000
END:STANDARD
END:VTIMEZONE
BEGIN:VEVENT
DTSTART;VALUE=DATE:20260509
DTEND;VALUE=DATE:20260510
DTSTAMP:20260421T130456
CREATED:20251216T104510Z
LAST-MODIFIED:20251216T104510Z
UID:402-1778284800-1778371199@schuetzenverein-schoenaich.de
SUMMARY:Ortsmeisterschaft 2026
DESCRIPTION:
URL:https://schuetzenverein-schoenaich.de/event/ortsmeisterschaft-2026/
LOCATION:Vereinsheim Schützenverein 1966 Schönaich e.V.\, Bandwiesen 2\, Schönaich\, Baden-Württemberg\, 71101\, Germany
CATEGORIES:Öffentliche Veranstaltung
END:VEVENT
BEGIN:VEVENT
DTSTART;VALUE=DATE:20260514
DTEND;VALUE=DATE:20260515
DTSTAMP:20260421T130456
CREATED:20251216T104904Z
LAST-MODIFIED:20251216T105634Z
UID:404-1778716800-1778803199@schuetzenverein-schoenaich.de
SUMMARY:Grillen am Vatertag 2026 + 60 Jahre Schützenverein Schönaich
DESCRIPTION:Zur Feier des 60-jährigen Bestehens des Vereins veranstalten wir ein Grillen am Vatertag. Darüber hinaus stiftet der Verein eine Ehrenscheibe zum Jubiläum.
URL:https://schuetzenverein-schoenaich.de/event/grillen-am-vatertag-2026-60-jahre-schuetzenverein-schoenaich/
LOCATION:Vereinsheim Schützenverein 1966 Schönaich e.V.\, Bandwiesen 2\, Schönaich\, Baden-Württemberg\, 71101\, Germany
CATEGORIES:Ausflug/Feier
END:VEVENT
BEGIN:VEVENT
DTSTART;VALUE=DATE:20260523
DTEND;VALUE=DATE:20260524
DTSTAMP:20260421T130456
CREATED:20260302T102918Z
LAST-MODIFIED:20260302T102918Z
UID:791-1779494400-1779580799@schuetzenverein-schoenaich.de
SUMMARY:Trap Schießen im Jägerloch 2026
DESCRIPTION:
URL:https://schuetzenverein-schoenaich.de/event/trap-schiessen-im-jaegerloch-2026/
LOCATION:Schießanlage „Jägerloch“\, Jägerloch 10\, Freudenstadt\, Baden-Württemberg\, 72250\, Germany
CATEGORIES:Ausflug/Feier
END:VEVENT
END:VCALENDAR