BEGIN:VCALENDAR
VERSION:2.0
PRODID:-//Schützenverein 1966 Schönaich e.V. - ECPv6.15.20//NONSGML v1.0//EN
CALSCALE:GREGORIAN
METHOD:PUBLISH
X-ORIGINAL-URL:https://schuetzenverein-schoenaich.de
X-WR-CALDESC:Veranstaltungen für Schützenverein 1966 Schönaich e.V.
REFRESH-INTERVAL;VALUE=DURATION:PT1H
X-Robots-Tag:noindex
X-PUBLISHED-TTL:PT1H
BEGIN:VTIMEZONE
TZID:Europe/Berlin
BEGIN:DAYLIGHT
TZOFFSETFROM:+0100
TZOFFSETTO:+0200
TZNAME:CEST
DTSTART:20250330T010000
END:DAYLIGHT
BEGIN:STANDARD
TZOFFSETFROM:+0200
TZOFFSETTO:+0100
TZNAME:CET
DTSTART:20251026T010000
END:STANDARD
BEGIN:DAYLIGHT
TZOFFSETFROM:+0100
TZOFFSETTO:+0200
TZNAME:CEST
DTSTART:20260329T010000
END:DAYLIGHT
BEGIN:STANDARD
TZOFFSETFROM:+0200
TZOFFSETTO:+0100
TZNAME:CET
DTSTART:20261025T010000
END:STANDARD
BEGIN:DAYLIGHT
TZOFFSETFROM:+0100
TZOFFSETTO:+0200
TZNAME:CEST
DTSTART:20270328T010000
END:DAYLIGHT
BEGIN:STANDARD
TZOFFSETFROM:+0200
TZOFFSETTO:+0100
TZNAME:CET
DTSTART:20271031T010000
END:STANDARD
END:VTIMEZONE
BEGIN:VEVENT
DTSTART;VALUE=DATE:20260905
DTEND;VALUE=DATE:20260906
DTSTAMP:20260421T184305
CREATED:20260302T103127Z
LAST-MODIFIED:20260302T103127Z
UID:795-1788566400-1788652799@schuetzenverein-schoenaich.de
SUMMARY:Vereinspokal Kurzwaffe und Ordonnanzgewehr 2026
DESCRIPTION:
URL:https://schuetzenverein-schoenaich.de/event/vereinspokal-kurzwaffe-und-ordonnanzgewehr-2026/
LOCATION:Vereinsheim Schützenverein 1966 Schönaich e.V.\, Bandwiesen 2\, Schönaich\, Baden-Württemberg\, 71101\, Germany
CATEGORIES:Pokal-Schießen
END:VEVENT
BEGIN:VEVENT
DTSTART;VALUE=DATE:20260912
DTEND;VALUE=DATE:20260913
DTSTAMP:20260421T184305
CREATED:20251216T105144Z
LAST-MODIFIED:20251216T105144Z
UID:411-1789171200-1789257599@schuetzenverein-schoenaich.de
SUMMARY:Königsadler 2026
DESCRIPTION:
URL:https://schuetzenverein-schoenaich.de/event/koenigsadler-2026/
LOCATION:Vereinsheim Schützenverein 1966 Schönaich e.V.\, Bandwiesen 2\, Schönaich\, Baden-Württemberg\, 71101\, Germany
CATEGORIES:Schützenkönig
END:VEVENT
END:VCALENDAR