BEGIN:VCALENDAR
VERSION:2.0
PRODID:-//Schützenverein 1966 Schönaich e.V. - ECPv6.15.20//NONSGML v1.0//EN
CALSCALE:GREGORIAN
METHOD:PUBLISH
X-WR-CALNAME:Schützenverein 1966 Schönaich e.V.
X-ORIGINAL-URL:https://schuetzenverein-schoenaich.de
X-WR-CALDESC:Veranstaltungen für Schützenverein 1966 Schönaich e.V.
REFRESH-INTERVAL;VALUE=DURATION:PT1H
X-Robots-Tag:noindex
X-PUBLISHED-TTL:PT1H
BEGIN:VTIMEZONE
TZID:Europe/Berlin
BEGIN:DAYLIGHT
TZOFFSETFROM:+0100
TZOFFSETTO:+0200
TZNAME:CEST
DTSTART:20260329T010000
END:DAYLIGHT
BEGIN:STANDARD
TZOFFSETFROM:+0200
TZOFFSETTO:+0100
TZNAME:CET
DTSTART:20261025T010000
END:STANDARD
BEGIN:DAYLIGHT
TZOFFSETFROM:+0100
TZOFFSETTO:+0200
TZNAME:CEST
DTSTART:20270328T010000
END:DAYLIGHT
BEGIN:STANDARD
TZOFFSETFROM:+0200
TZOFFSETTO:+0100
TZNAME:CET
DTSTART:20271031T010000
END:STANDARD
BEGIN:DAYLIGHT
TZOFFSETFROM:+0100
TZOFFSETTO:+0200
TZNAME:CEST
DTSTART:20280326T010000
END:DAYLIGHT
BEGIN:STANDARD
TZOFFSETFROM:+0200
TZOFFSETTO:+0100
TZNAME:CET
DTSTART:20281029T010000
END:STANDARD
END:VTIMEZONE
BEGIN:VEVENT
DTSTART;VALUE=DATE:20270131
DTEND;VALUE=DATE:20270201
DTSTAMP:20260422T001032
CREATED:20251216T105515Z
LAST-MODIFIED:20251216T105515Z
UID:419-1801353600-1801439999@schuetzenverein-schoenaich.de
SUMMARY:Jahreshauptversammlung 2027
DESCRIPTION:
URL:https://schuetzenverein-schoenaich.de/event/jahreshauptversammlung-2027/
LOCATION:Vereinsheim Schützenverein 1966 Schönaich e.V.\, Bandwiesen 2\, Schönaich\, Baden-Württemberg\, 71101\, Germany
CATEGORIES:Vereinsinterne Veranstaltung
END:VEVENT
END:VCALENDAR